BEGIN:VCALENDAR
VERSION:2.0
PRODID:-//IBCO Simple Events//EN
CALSCALE:GREGORIAN
METHOD:PUBLISH
BEGIN:VEVENT
UID:ibco-event-65091@bautistacentralocala.com
DTSTAMP:20260422T225659Z
DTSTART;VALUE=DATE:20260924
DTEND;VALUE=DATE:20260925
SUMMARY:Servicio de Oración
LOCATION:IBCO
DESCRIPTION:https://bautistacentralocala.com/eventos/servicio-de-oracion-13/
URL:https://bautistacentralocala.com/eventos/servicio-de-oracion-13/
END:VEVENT
END:VCALENDAR
