BEGIN:VCALENDAR
VERSION:2.0
PRODID:-//IBCO Simple Events//EN
CALSCALE:GREGORIAN
METHOD:PUBLISH
BEGIN:VEVENT
UID:ibco-event-65087@bautistacentralocala.com
DTSTAMP:20260422T205046Z
DTSTART;VALUE=DATE:20260827
DTEND;VALUE=DATE:20260828
SUMMARY:Servicio de Oración
LOCATION:IBCO
DESCRIPTION:https://bautistacentralocala.com/eventos/servicio-de-oracion-9/
URL:https://bautistacentralocala.com/eventos/servicio-de-oracion-9/
END:VEVENT
END:VCALENDAR
