BEGIN:VCALENDAR
VERSION:2.0
PRODID:-//IBCO Simple Events//EN
CALSCALE:GREGORIAN
METHOD:PUBLISH
BEGIN:VEVENT
UID:ibco-event-65085@bautistacentralocala.com
DTSTAMP:20260422T204002Z
DTSTART;VALUE=DATE:20260813
DTEND;VALUE=DATE:20260814
SUMMARY:Servicio de Oración
LOCATION:IBCO
DESCRIPTION:https://bautistacentralocala.com/eventos/servicio-de-oracion-7/
URL:https://bautistacentralocala.com/eventos/servicio-de-oracion-7/
END:VEVENT
END:VCALENDAR
