BEGIN:VCALENDAR
VERSION:2.0
PRODID:-//IBCO Simple Events//EN
CALSCALE:GREGORIAN
METHOD:PUBLISH
BEGIN:VEVENT
UID:ibco-event-65081@bautistacentralocala.com
DTSTAMP:20260422T185925Z
DTSTART;VALUE=DATE:20260716
DTEND;VALUE=DATE:20260717
SUMMARY:Servicio de Oración
LOCATION:IBCO
DESCRIPTION:https://bautistacentralocala.com/eventos/servicio-de-oracion-3/
URL:https://bautistacentralocala.com/eventos/servicio-de-oracion-3/
END:VEVENT
END:VCALENDAR
