BEGIN:VCALENDAR
VERSION:2.0
PRODID:-//IBCO Simple Events//EN
CALSCALE:GREGORIAN
METHOD:PUBLISH
BEGIN:VEVENT
UID:ibco-event-65080@bautistacentralocala.com
DTSTAMP:20260422T185827Z
DTSTART;VALUE=DATE:20260709
DTEND;VALUE=DATE:20260710
SUMMARY:Servicio de Oración
LOCATION:IBCO
DESCRIPTION:https://bautistacentralocala.com/eventos/servicio-de-oracion-2/
URL:https://bautistacentralocala.com/eventos/servicio-de-oracion-2/
END:VEVENT
END:VCALENDAR
