BEGIN:VCALENDAR
VERSION:2.0
PRODID:-//IBCO Simple Events//EN
CALSCALE:GREGORIAN
METHOD:PUBLISH
BEGIN:VEVENT
UID:ibco-event-65067@bautistacentralocala.com
DTSTAMP:20260422T171844Z
DTSTART;TZID=America/New_York:20260606T080000
DTEND;TZID=America/New_York:20260606T200000
SUMMARY:IBCO Volleyball Cup
LOCATION:IBCO
DESCRIPTION:https://bautistacentralocala.com/eventos/servicio-de-oracion/
URL:https://bautistacentralocala.com/eventos/servicio-de-oracion/
END:VEVENT
END:VCALENDAR
