BEGIN:VCALENDAR
VERSION:2.0
PRODID:-//IBCO Simple Events//EN
CALSCALE:GREGORIAN
METHOD:PUBLISH
BEGIN:VEVENT
UID:ibco-event-65065@bautistacentralocala.com
DTSTAMP:20260422T184739Z
DTSTART;TZID=America/New_York:20260719T110000
DTEND;TZID=America/New_York:20260719T140000
SUMMARY:Servicio de Domingo
LOCATION:IBCO
DESCRIPTION:https://bautistacentralocala.com/eventos/servicio-de-domingo-9/
URL:https://bautistacentralocala.com/eventos/servicio-de-domingo-9/
END:VEVENT
END:VCALENDAR
