BEGIN:VCALENDAR
VERSION:2.0
PRODID:-//IBCO Simple Events//EN
CALSCALE:GREGORIAN
METHOD:PUBLISH
BEGIN:VEVENT
UID:ibco-event-65059@bautistacentralocala.com
DTSTAMP:20260422T170158Z
DTSTART;TZID=America/New_York:20260607T110000
DTEND;TZID=America/New_York:20260607T140000
SUMMARY:Servicio de Domingo
LOCATION:IBCO
DESCRIPTION:https://bautistacentralocala.com/eventos/servicio-de-domingo-3/
URL:https://bautistacentralocala.com/eventos/servicio-de-domingo-3/
END:VEVENT
END:VCALENDAR
