BEGIN:VCALENDAR
VERSION:2.0
PRODID:-//IBCO Simple Events//EN
CALSCALE:GREGORIAN
METHOD:PUBLISH
BEGIN:VEVENT
UID:ibco-event-65057@bautistacentralocala.com
DTSTAMP:20260422T152315Z
DTSTART;TZID=America/New_York:20260524T110000
DTEND;TZID=America/New_York:20260524T140000
SUMMARY:Servicio de Domingo
LOCATION:IBCO
DESCRIPTION:https://bautistacentralocala.com/eventos/servicio-de-domingo/
URL:https://bautistacentralocala.com/eventos/servicio-de-domingo/
END:VEVENT
END:VCALENDAR
