BEGIN:VCALENDAR
VERSION:2.0
PRODID:-//IBCO Simple Events//EN
CALSCALE:GREGORIAN
METHOD:PUBLISH
BEGIN:VEVENT
UID:ibco-event-55995@bautistacentralocala.com
DTSTAMP:20260422T225212Z
DTSTART;TZID=America/New_York:20260913T110000
DTEND;TZID=America/New_York:20260913T140000
SUMMARY:Servicio Especial de Aniversario
LOCATION:Iglesia Bautista Central | 1714 se 36th ave | Ocala\, FL | 34471 | United States
DESCRIPTION:Acompáñanos este domingo donde estaremos celebrando 26 años de existencia de nuestro ministerio hispano. A Dios damos las gracias por la Iglesia Bautista Central de Ocala\, un instrumento suyo para alcanzar a la comunidad hispana de nuestra ciudad. Empezamos a las 11:00 am.\n\nhttps://bautistacentralocala.com/eventos/servicio-especial-de-aniversario/
URL:https://bautistacentralocala.com/eventos/servicio-especial-de-aniversario/
END:VEVENT
END:VCALENDAR
