BEGIN:VCALENDAR
VERSION:2.0
PRODID:-//IBCO Simple Events//EN
CALSCALE:GREGORIAN
METHOD:PUBLISH
BEGIN:VEVENT
UID:ibco-event-55986@bautistacentralocala.com
DTSTAMP:20260422T203815Z
DTSTART;TZID=America/New_York:20260821T063000
DTEND;TZID=America/New_York:20260823T180000
SUMMARY:Conferencia Familiar
LOCATION:Iglesia Bautista Central | 1714 se 36th ave | Ocala\, FL | 34471 | United States
DESCRIPTION:Durante esta semana estaremos llevando a cabo nuestra conferencia para la familia. Un tiempo para ser animados y confrontados con las verdades de la Palabra De Dios para nuestras familias.\n\n 	Predicador invitado: Pastor Oscar Galvan de Arizona\n\nhttps://bautistacentralocala.com/eventos/conferencia-familiar/
URL:https://bautistacentralocala.com/eventos/conferencia-familiar/
END:VEVENT
END:VCALENDAR
