BEGIN:VCALENDAR
VERSION:2.0
PRODID:-//IBCO Simple Events//EN
CALSCALE:GREGORIAN
METHOD:PUBLISH
BEGIN:VEVENT
UID:ibco-event-55985@bautistacentralocala.com
DTSTAMP:20260422T225533Z
DTSTART;TZID=America/New_York:20260720T080000
DTEND;TZID=America/New_York:20260724T170000
SUMMARY:Campamento de jóvenes
LOCATION:Campamento Tygart Ray City Georgia | Camp Tygart rd | Ray City\, GA | 31645 | United States
DESCRIPTION:https://bautistacentralocala.com/eventos/campamento-de-jovenes/
URL:https://bautistacentralocala.com/eventos/campamento-de-jovenes/
END:VEVENT
END:VCALENDAR
