BEGIN:VCALENDAR
VERSION:2.0
PRODID:-//IBCO Simple Events//EN
CALSCALE:GREGORIAN
METHOD:PUBLISH
BEGIN:VEVENT
UID:ibco-event-55982@bautistacentralocala.com
DTSTAMP:20260422T170151Z
DTSTART;TZID=America/New_York:20260607T110000
DTEND;TZID=America/New_York:20260607T120000
SUMMARY:Servicio Especial día del padre
LOCATION:Iglesia Bautista Central | 1714 se 36th ave | Ocala\, FL | 34471 | United States
DESCRIPTION:Este domingo\, te invitamos a celebrar con nosotros el día especial del Padre\, tendremos un tiempo de enseñanza bíblica y de compartir entre hermanos en Cristo.\n\nhttps://bautistacentralocala.com/eventos/servicio-especial-dia-del-padre/
URL:https://bautistacentralocala.com/eventos/servicio-especial-dia-del-padre/
END:VEVENT
END:VCALENDAR
