BEGIN:VCALENDAR
VERSION:2.0
PRODID:-//IBCO Simple Events//EN
CALSCALE:GREGORIAN
METHOD:PUBLISH
BEGIN:VEVENT
UID:ibco-event-55981@bautistacentralocala.com
DTSTAMP:20260422T170458Z
DTSTART;TZID=America/New_York:20260607T110000
DTEND;TZID=America/New_York:20260607T120000
SUMMARY:Cena del Señor.
LOCATION:Iglesia Bautista Central | 1714 se 36th ave | Ocala\, FL | 34471 | United States
DESCRIPTION:Durante el período de la Escuela dominical\, estaremos participando de la Cena del Señor\, recordando la obra que hizo en la cruz para redimirnos del pecado.\n\nhttps://bautistacentralocala.com/eventos/cena-del-senor/
URL:https://bautistacentralocala.com/eventos/cena-del-senor/
END:VEVENT
END:VCALENDAR
