BEGIN:VCALENDAR
VERSION:2.0
PRODID:-//IBCO Simple Events//EN
CALSCALE:GREGORIAN
METHOD:PUBLISH
BEGIN:VEVENT
UID:ibco-event-55979@bautistacentralocala.com
DTSTAMP:20260424T084534Z
DTSTART;TZID=America/New_York:20260510T080000
DTEND;TZID=America/New_York:20260510T170000
SUMMARY:Servicio Especial día de las madres.
LOCATION:Iglesia Bautista Central | 1714 se 36th ave | Ocala\, FL | 34471 | United States
DESCRIPTION:Este domingo\, te invitamos a celebrar con nosotros el día especial de las madres\, tendremos un tiempo de enseñanza bíblica y de compartir entre hermanos en Cristo.\n\nhttps://bautistacentralocala.com/eventos/servicio-especial-dia-de-las-madres/
URL:https://bautistacentralocala.com/eventos/servicio-especial-dia-de-las-madres/
END:VEVENT
END:VCALENDAR
