BEGIN:VCALENDAR
VERSION:2.0
PRODID:-//IBCO Simple Events//EN
CALSCALE:GREGORIAN
METHOD:PUBLISH
BEGIN:VEVENT
UID:ibco-event-55978@bautistacentralocala.com
DTSTAMP:20260422T084210Z
DTSTART;TZID=America/New_York:20260509T060000
DTEND;TZID=America/New_York:20260509T170000
SUMMARY:Reunión de parejas
LOCATION:Iglesia Bautista Central | 1714 se 36th ave | Ocala\, FL | 34471 | United States
DESCRIPTION:Te invitamos a ser parte de nuestras reuniones de parejas\, un tiempo especial donde compartimos y aprendemos de la Palabra De Dios para fortalecer nuestros matrimonios y crecer en el conocimiento de nuestro Dios y Salvador Jesucristo. ¡Recuerda invitar a una pareja! Trae algo para compartir con tus hermanos en Cristo.\n\nhttps://bautistacentralocala.com/eventos/reunion-de-parejas-2/
URL:https://bautistacentralocala.com/eventos/reunion-de-parejas-2/
END:VEVENT
END:VCALENDAR
