BEGIN:VCALENDAR
VERSION:2.0
PRODID:-//IBCO Simple Events//EN
CALSCALE:GREGORIAN
METHOD:PUBLISH
BEGIN:VEVENT
UID:ibco-event-55977@bautistacentralocala.com
DTSTAMP:20260420T083553Z
DTSTART;TZID=America/New_York:20260425T080000
DTEND;TZID=America/New_York:20260425T170000
SUMMARY:Estudio Bíblico de damas.
LOCATION:Iglesia Bautista Central | 1714 se 36th ave | Ocala\, FL | 34471 | United States
DESCRIPTION:Acompáñanos en nuestro estudio Bíblico de damas\, un tiempo de compartir entre hermanas en Cristo\, de aprendizaje de la Palabra de Dios además de proveer una oportunidad para alcanzar a otras damas para Cristo.\n\nPara más Inf. contactar a la hna Allie.\n\nhttps://bautistacentralocala.com/eventos/estudio-biblico-de-damas/
URL:https://bautistacentralocala.com/eventos/estudio-biblico-de-damas/
END:VEVENT
END:VCALENDAR
