BEGIN:VCALENDAR
VERSION:2.0
PRODID:-//IBCO Simple Events//EN
CALSCALE:GREGORIAN
METHOD:PUBLISH
BEGIN:VEVENT
UID:ibco-event-55975@bautistacentralocala.com
DTSTAMP:20260422T133244Z
DTSTART;TZID=America/New_York:20260412T080000
DTEND;TZID=America/New_York:20260412T170000
SUMMARY:Inicio de Escuela de siervos.
LOCATION:Iglesia Bautista Central | 1714 se 36th ave | Ocala\, FL | 34471 | United States
DESCRIPTION:Inicio de Escuela de siervos.\n\nEstaremos iniciando con el módulo "Panorama del Antiguo Testamento"\n\nInscripciones están abiertas. \n\nPara más información contactar al Pastor.\n\nhttps://bautistacentralocala.com/eventos/inicio-de-escuela-de-siervos/
URL:https://bautistacentralocala.com/eventos/inicio-de-escuela-de-siervos/
END:VEVENT
END:VCALENDAR
