BEGIN:VCALENDAR
VERSION:2.0
PRODID:-//IBCO Simple Events//EN
CALSCALE:GREGORIAN
METHOD:PUBLISH
BEGIN:VEVENT
UID:ibco-event-55974@bautistacentralocala.com
DTSTAMP:20260422T133244Z
DTSTART;TZID=America/New_York:20260405T080000
DTEND;TZID=America/New_York:20260405T170000
SUMMARY:Servicio especial (Domingo de resurrección).
LOCATION:Iglesia Bautista Central | 1714 se 36th ave | Ocala\, FL | 34471 | United States
DESCRIPTION:Servicio especial (Domingo de resurrección). Estaremos conmemorando a propósito de la semana la resurrección de nuestro gran Dios y Salvador Jesucristo\, el cual se dio a Sí mismo en rescate nuestro para apaciguar la ira De Dios y proveer el perdón de nuestros pecados.\n\nhttps://bautistacentralocala.com/eventos/servicio-especial-domingo-de-resurreccion/
URL:https://bautistacentralocala.com/eventos/servicio-especial-domingo-de-resurreccion/
END:VEVENT
END:VCALENDAR
