BEGIN:VCALENDAR
VERSION:2.0
PRODID:-//IBCO Simple Events//EN
CALSCALE:GREGORIAN
METHOD:PUBLISH
BEGIN:VEVENT
UID:ibco-event-55970@bautistacentralocala.com
DTSTAMP:20260422T152325Z
DTSTART;TZID=America/New_York:20260329T080000
DTEND;TZID=America/New_York:20260329T170000
SUMMARY:Servicio Domingo y Bautizos
DESCRIPTION:Acompáñanos este domingo especial en el cual presenciaremos con gozo la decisión de algunos de nuestros hermanos en obedecer al Señor Jesucristo en su bautizo. Antes de los bautizos escucharemos la predicación de la Palabra de Dios.\n\nhttps://bautistacentralocala.com/eventos/servicio-domingo-y-bautizos/
URL:https://bautistacentralocala.com/eventos/servicio-domingo-y-bautizos/
END:VEVENT
END:VCALENDAR
