BEGIN:VCALENDAR
VERSION:2.0
PRODID:-//IBCO Simple Events//EN
CALSCALE:GREGORIAN
METHOD:PUBLISH
BEGIN:VEVENT
UID:ibco-event-55969@bautistacentralocala.com
DTSTAMP:20260422T154720Z
DTSTART;TZID=America/New_York:20260328T080000
DTEND;TZID=America/New_York:20260328T170000
SUMMARY:Actividad pro-fondos campamento de jóvenes
LOCATION:Iglesia Bautista Central | 1714 se 36th ave | Ocala\, FL | 34471 | United States
DESCRIPTION:Actividad pro-fondos campamento de jóvenes\n 	A través del juego BINGO\, estaremos recolectando fondos para el campamento de jóvenes.\n 	Ven\, participa y apoya a los jóvenes este día.\n 	$5 el carton por 10 jugadas.\n 	$5 la comida.\n 	Más Info. Contactar a la Hna Maite Balbas\n\nhttps://bautistacentralocala.com/eventos/actividad-pro-fondos-campamento-de-jovenes/
URL:https://bautistacentralocala.com/eventos/actividad-pro-fondos-campamento-de-jovenes/
END:VEVENT
END:VCALENDAR
